{
 "currentVersion": 10.91,
 "serviceDescription": "CZU_Postfire_lidar_Intensity",
 "name": "CZU_Postfire_lidar_Intensity",
 "description": "",
 "extent": {
  "xmin": 6023628,
  "ymin": 1832752.5,
  "xmax": 6098761.5,
  "ymax": 1926850.5,
  "spatialReference": {"wkt": "PROJCS[\"NAD_1983_2011_California_zone_3_ftUS\",GEOGCS[\"GCS_NAD83_2011\",DATUM[\"D_NAD83_National_Spatial_Reference_System_2011\",SPHEROID[\"GRS_1980\",6378137.0,298.257222101]],PRIMEM[\"Greenwich\",0.0],UNIT[\"Degree\",0.0174532925199433]],PROJECTION[\"Lambert_Conformal_Conic\"],PARAMETER[\"false_easting\",6561666.667],PARAMETER[\"false_northing\",1640416.667],PARAMETER[\"central_meridian\",-120.5],PARAMETER[\"standard_parallel_1\",37.06666666666667],PARAMETER[\"standard_parallel_2\",38.43333333333333],PARAMETER[\"latitude_of_origin\",36.5],UNIT[\"Foot_US\",0.3048006096012192]],VERTCS[\"NAVD88 height (ftUS) - Geoid12B (ftUS)\",VDATUM[\"North American Vertical Datum 1988\"],PARAMETER[\"Vertical_Shift\",0.0],PARAMETER[\"Direction\",1.0],UNIT[\"US survey foot\",0.3048006096012192]]"}
 },
 "initialExtent": {
  "xmin": 6023628,
  "ymin": 1832752.5,
  "xmax": 6098761.5,
  "ymax": 1926850.5,
  "spatialReference": {"wkt": "PROJCS[\"NAD_1983_2011_California_zone_3_ftUS\",GEOGCS[\"GCS_NAD83_2011\",DATUM[\"D_NAD83_National_Spatial_Reference_System_2011\",SPHEROID[\"GRS_1980\",6378137.0,298.257222101]],PRIMEM[\"Greenwich\",0.0],UNIT[\"Degree\",0.0174532925199433]],PROJECTION[\"Lambert_Conformal_Conic\"],PARAMETER[\"false_easting\",6561666.667],PARAMETER[\"false_northing\",1640416.667],PARAMETER[\"central_meridian\",-120.5],PARAMETER[\"standard_parallel_1\",37.06666666666667],PARAMETER[\"standard_parallel_2\",38.43333333333333],PARAMETER[\"latitude_of_origin\",36.5],UNIT[\"Foot_US\",0.3048006096012192]],VERTCS[\"NAVD88 height (ftUS) - Geoid12B (ftUS)\",VDATUM[\"North American Vertical Datum 1988\"],PARAMETER[\"Vertical_Shift\",0.0],PARAMETER[\"Direction\",1.0],UNIT[\"US survey foot\",0.3048006096012192]]"}
 },
 "fullExtent": {
  "xmin": 6023628,
  "ymin": 1832752.5,
  "xmax": 6098761.5,
  "ymax": 1926850.5,
  "spatialReference": {"wkt": "PROJCS[\"NAD_1983_2011_California_zone_3_ftUS\",GEOGCS[\"GCS_NAD83_2011\",DATUM[\"D_NAD83_National_Spatial_Reference_System_2011\",SPHEROID[\"GRS_1980\",6378137.0,298.257222101]],PRIMEM[\"Greenwich\",0.0],UNIT[\"Degree\",0.0174532925199433]],PROJECTION[\"Lambert_Conformal_Conic\"],PARAMETER[\"false_easting\",6561666.667],PARAMETER[\"false_northing\",1640416.667],PARAMETER[\"central_meridian\",-120.5],PARAMETER[\"standard_parallel_1\",37.06666666666667],PARAMETER[\"standard_parallel_2\",38.43333333333333],PARAMETER[\"latitude_of_origin\",36.5],UNIT[\"Foot_US\",0.3048006096012192]],VERTCS[\"NAVD88 height (ftUS) - Geoid12B (ftUS)\",VDATUM[\"North American Vertical Datum 1988\"],PARAMETER[\"Vertical_Shift\",0.0],PARAMETER[\"Direction\",1.0],UNIT[\"US survey foot\",0.3048006096012192]]"}
 },
 "heightModelInfo": {
  "heightModel": "gravity_related_height",
  "vertCRS": "NAVD88 height (ftUS) - Geoid12B (ftUS)",
  "heightUnit": "us-foot"
 },
 "hasMultidimensions": false,
 "pixelSizeX": 1.5,
 "pixelSizeY": 1.5,
 "datasetFormat": "TIFF",
 "uncompressedSize": 3142183148,
 "blockWidth": 128,
 "blockHeight": 128,
 "compressionType": "LZW",
 "bandNames": [
  "Band_1"
 ],
 "allowCopy": true,
 "allowAnalysis": true,
 "bandCount": 1,
 "noDataValue": 255,
 "noDataValues": [
  255
 ],
 "pixelType": "U8",
 "minPixelSize": 0,
 "maxPixelSize": 0,
 "copyrightText": "",
 "serviceDataType": "esriImageServiceDataTypeGeneric",
 "serviceSourceType": "esriImageServiceSourceTypeDataset",
 "minValues": [
  18
 ],
 "maxValues": [
  254
 ],
 "meanValues": [
  150.5222199284
 ],
 "stdvValues": [
  37.480717967761
 ],
 "objectIdField": "",
 "fields": [],
 "capabilities": "Image,Metadata,Mensuration",
 "defaultMosaicMethod": "Center",
 "allowedMosaicMethods": "",
 "sortField": "",
 "sortValue": null,
 "sortAscending": true,
 "mosaicOperator": "First",
 "defaultCompressionQuality": 75,
 "defaultResamplingMethod": "Bilinear",
 "maxImageHeight": 4100,
 "maxImageWidth": 15000,
 "allowRasterFunction": true,
 "rasterFunctionInfos": [
  {
   "name": "None",
   "description": "",
   "help": ""
  }
 ],
 "rasterTypeInfos": [
  {
   "name": "Raster Dataset",
   "description": "Supports all ArcGIS Raster Datasets",
   "help": ""
  }
 ],
 "mensurationCapabilities": "Basic",
 "hasHistograms": true,
 "hasColormap": false,
 "hasRasterAttributeTable": false,
 "minScale": 0,
 "maxScale": 0,
 "exportTilesAllowed": false,
 "supportsStatistics": false,
 "supportsAdvancedQueries": false,
 "editFieldsInfo": null,
 "ownershipBasedAccessControlForRasters": null,
 "allowComputeTiePoints": false,
 "useStandardizedQueries": true,
 "advancedQueryCapabilities": {
  "useStandardizedQueries": true,
  "supportsStatistics": false,
  "supportsOrderBy": false,
  "supportsDistinct": false,
  "supportsPagination": false
 },
 "spatialReference": {"wkt": "PROJCS[\"NAD_1983_2011_California_zone_3_ftUS\",GEOGCS[\"GCS_NAD83_2011\",DATUM[\"D_NAD83_National_Spatial_Reference_System_2011\",SPHEROID[\"GRS_1980\",6378137.0,298.257222101]],PRIMEM[\"Greenwich\",0.0],UNIT[\"Degree\",0.0174532925199433]],PROJECTION[\"Lambert_Conformal_Conic\"],PARAMETER[\"false_easting\",6561666.667],PARAMETER[\"false_northing\",1640416.667],PARAMETER[\"central_meridian\",-120.5],PARAMETER[\"standard_parallel_1\",37.06666666666667],PARAMETER[\"standard_parallel_2\",38.43333333333333],PARAMETER[\"latitude_of_origin\",36.5],UNIT[\"Foot_US\",0.3048006096012192]],VERTCS[\"NAVD88 height (ftUS) - Geoid12B (ftUS)\",VDATUM[\"North American Vertical Datum 1988\"],PARAMETER[\"Vertical_Shift\",0.0],PARAMETER[\"Direction\",1.0],UNIT[\"US survey foot\",0.3048006096012192]]"}
}