{
 "currentVersion": 10.91,
 "serviceDescription": "FUEL_REDUCTION_PRIORITY_V4_JAN_10_2024",
 "name": "FUEL_REDUCTION_PRIORITY_V4_JAN_10_2024",
 "description": "",
 "extent": {
  "xmin": -394961.6792679689,
  "ymin": 136.8980357227847,
  "xmax": -44441.679267968924,
  "ymax": 458806.8980357228,
  "spatialReference": {
   "wkid": 3310,
   "latestWkid": 3310
  }
 },
 "initialExtent": {
  "xmin": -394961.6792679689,
  "ymin": 136.8980357227847,
  "xmax": -44441.679267968924,
  "ymax": 458806.8980357228,
  "spatialReference": {
   "wkid": 3310,
   "latestWkid": 3310
  }
 },
 "fullExtent": {
  "xmin": -394961.6792679689,
  "ymin": 136.8980357227847,
  "xmax": -44441.679267968924,
  "ymax": 458806.8980357228,
  "spatialReference": {
   "wkid": 3310,
   "latestWkid": 3310
  }
 },
 "hasMultidimensions": false,
 "pixelSizeX": 30,
 "pixelSizeY": 30,
 "datasetFormat": "FGDBR",
 "uncompressedSize": 714546704,
 "blockWidth": 128,
 "blockHeight": 128,
 "compressionType": "LZ77",
 "bandNames": [
  "Band_1"
 ],
 "allowCopy": true,
 "allowAnalysis": true,
 "bandCount": 1,
 "pixelType": "S32",
 "minPixelSize": 0,
 "maxPixelSize": 0,
 "copyrightText": "",
 "serviceDataType": "esriImageServiceDataTypeGeneric",
 "serviceSourceType": "esriImageServiceSourceTypeDataset",
 "minValues": [
  1
 ],
 "maxValues": [
  16682
 ],
 "meanValues": [
  5181.076771339685
 ],
 "stdvValues": [
  4376.878534088085
 ],
 "objectIdField": "",
 "fields": [],
 "capabilities": "Image,Metadata,Mensuration",
 "defaultMosaicMethod": "Center",
 "allowedMosaicMethods": "",
 "sortField": "",
 "sortValue": null,
 "sortAscending": true,
 "mosaicOperator": "First",
 "defaultCompressionQuality": 75,
 "defaultResamplingMethod": "Bilinear",
 "maxImageHeight": 4100,
 "maxImageWidth": 15000,
 "allowRasterFunction": true,
 "rasterFunctionInfos": [
  {
   "name": "None",
   "description": "",
   "help": ""
  }
 ],
 "rasterTypeInfos": [
  {
   "name": "Raster Dataset",
   "description": "Supports all ArcGIS Raster Datasets",
   "help": ""
  }
 ],
 "mensurationCapabilities": "Basic",
 "hasHistograms": true,
 "hasColormap": false,
 "hasRasterAttributeTable": true,
 "minScale": 0,
 "maxScale": 0,
 "exportTilesAllowed": false,
 "supportsStatistics": false,
 "supportsAdvancedQueries": false,
 "editFieldsInfo": null,
 "ownershipBasedAccessControlForRasters": null,
 "allowComputeTiePoints": false,
 "useStandardizedQueries": true,
 "advancedQueryCapabilities": {
  "useStandardizedQueries": true,
  "supportsStatistics": false,
  "supportsOrderBy": false,
  "supportsDistinct": false,
  "supportsPagination": false
 },
 "spatialReference": {
  "wkid": 3310,
  "latestWkid": 3310
 }
}