View In:
  ArcGIS JavaScript
  ArcGIS Online Map Viewer
  ArcGIS Earth
  ArcMap
View Footprint In:
  ArcGIS Online Map Viewer
Service Description:  CZY_Postfire_lidar_Hillshade
Name:  CZY_Postfire_lidar_Hillshade
Description:  
Single Fused Map Cache:  false
Extent: 
XMin: 6023628
YMin: 1832751
XMax: 6098763
YMax: 1926852
Spatial Reference: PROJCS["NAD_1983_2011_California_zone_3_ftUS",GEOGCS["GCS_NAD83_2011",DATUM["D_NAD83_National_Spatial_Reference_System_2011",SPHEROID["GRS_1980",6378137.0,298.257222101]],PRIMEM["Greenwich",0.0],UNIT["Degree",0.0174532925199433]],PROJECTION["Lambert_Conformal_Conic"],PARAMETER["false_easting",6561666.667],PARAMETER["false_northing",1640416.667],PARAMETER["central_meridian",-120.5],PARAMETER["standard_parallel_1",37.06666666666667],PARAMETER["standard_parallel_2",38.43333333333333],PARAMETER["latitude_of_origin",36.5],UNIT["Foot_US",0.3048006096012192]],VERTCS["NAVD88 height (ftUS) - Geoid12B (ftUS)",VDATUM["North American Vertical Datum 1988"],PARAMETER["Vertical_Shift",0.0],PARAMETER["Direction",1.0],UNIT["US survey foot",0.3048006096012192]]
Initial Extent: 
XMin: 6023628
YMin: 1832751
XMax: 6098763
YMax: 1926852
Spatial Reference: PROJCS["NAD_1983_2011_California_zone_3_ftUS",GEOGCS["GCS_NAD83_2011",DATUM["D_NAD83_National_Spatial_Reference_System_2011",SPHEROID["GRS_1980",6378137.0,298.257222101]],PRIMEM["Greenwich",0.0],UNIT["Degree",0.0174532925199433]],PROJECTION["Lambert_Conformal_Conic"],PARAMETER["false_easting",6561666.667],PARAMETER["false_northing",1640416.667],PARAMETER["central_meridian",-120.5],PARAMETER["standard_parallel_1",37.06666666666667],PARAMETER["standard_parallel_2",38.43333333333333],PARAMETER["latitude_of_origin",36.5],UNIT["Foot_US",0.3048006096012192]],VERTCS["NAVD88 height (ftUS) - Geoid12B (ftUS)",VDATUM["North American Vertical Datum 1988"],PARAMETER["Vertical_Shift",0.0],PARAMETER["Direction",1.0],UNIT["US survey foot",0.3048006096012192]]
Full Extent: 
XMin: 6023628
YMin: 1832751
XMax: 6098763
YMax: 1926852
Spatial Reference: PROJCS["NAD_1983_2011_California_zone_3_ftUS",GEOGCS["GCS_NAD83_2011",DATUM["D_NAD83_National_Spatial_Reference_System_2011",SPHEROID["GRS_1980",6378137.0,298.257222101]],PRIMEM["Greenwich",0.0],UNIT["Degree",0.0174532925199433]],PROJECTION["Lambert_Conformal_Conic"],PARAMETER["false_easting",6561666.667],PARAMETER["false_northing",1640416.667],PARAMETER["central_meridian",-120.5],PARAMETER["standard_parallel_1",37.06666666666667],PARAMETER["standard_parallel_2",38.43333333333333],PARAMETER["latitude_of_origin",36.5],UNIT["Foot_US",0.3048006096012192]],VERTCS["NAVD88 height (ftUS) - Geoid12B (ftUS)",VDATUM["North American Vertical Datum 1988"],PARAMETER["Vertical_Shift",0.0],PARAMETER["Direction",1.0],UNIT["US survey foot",0.3048006096012192]]
Pixel Size X:  3.0
Pixel Size Y:  3.0
Band Count: 1
Pixel Type: U8
RasterFunction Infos:  {"rasterFunctionInfos": [{
 "name": "None",
 "description": "",
 "help": ""
}]}
Mensuration Capabilities: Basic
Has Histograms:  false
Has Colormap:  false
Has Multi Dimensions :  false
Rendering Rule: 
Min Scale:  0
Max Scale:  0
Copyright Text:  
Service Data Type:  esriImageServiceDataTypeGeneric
Min Values:  0
Max Values:  254
Mean Values:  160.1811154402
Standard Deviation Values:  59.935477853939
Object ID Field:  
Fields: 
None
Default Mosaic Method:  Center
Allowed Mosaic Methods:  
SortField:  
SortValue:  null
Mosaic Operator:  First
Default Compression Quality:  75
Default Resampling Method:  Bilinear
Max Record Count:  null
Max Image Height:  4100
Max Image Width:  15000
Max Download Image Count:  null
Max Mosaic Image Count:  null
Allow Raster Function:  true
Allow Copy:  true
Allow Analysis:  true
Allow Compute TiePoints:  false
Supports Statistics:  false
Supports Advanced Queries:  false
Use StandardizedQueries:  true
Raster Type Infos: 
Name: Raster Dataset
Description: Supports all ArcGIS Raster Datasets
Help: 
Has Raster Attribute Table:  true
Edit Fields Info:  null
Ownership Based AccessControl For Rasters:  null
Child Resources:
  
Info
  Raster Attribute Table
  Statistics
  Key Properties
  Legend
  Raster Function Infos
Supported Operations:
  
Export Image
  Identify
  Measure
  Compute Histograms
  Compute Statistics Histograms
  Get Samples
  Compute Class Statistics
  Query Boundary
  Compute Pixel Location
  Compute Angles
  Validate
  Project