View In:
ArcGIS JavaScript
ArcGIS Online Map Viewer
ArcGIS Earth
ArcMap
View Footprint In:
ArcGIS Online Map Viewer
Service Description: FCID2018_V6_TFB_40_TOTAL
Name: FCID2018_V6_TFB_40_TOTAL
Description:
Single Fused Map Cache: false
Extent:
XMin: -451375.584638764
YMin: -645281.560132408
XMax: 600124.4153612361
YMax: 491838.43986759195
Spatial Reference: PROJCS["Albers_Conic_Equal_Area",GEOGCS["GCS_GRS_1980_IUGG_1980",DATUM["D_unknown",SPHEROID["GRS80",6378137.0,298.257222101]],PRIMEM["Greenwich",0.0],UNIT["Degree",0.0174532925199433]],PROJECTION["Albers"],PARAMETER["false_easting",0.0],PARAMETER["false_northing",-4000000.0],PARAMETER["central_meridian",-120.0],PARAMETER["standard_parallel_1",34.0],PARAMETER["standard_parallel_2",40.5],PARAMETER["latitude_of_origin",0.0],UNIT["Meter",1.0]]
Initial Extent:
XMin: -451375.584638764
YMin: -645281.560132408
XMax: 600124.4153612361
YMax: 491838.43986759195
Spatial Reference: PROJCS["Albers_Conic_Equal_Area",GEOGCS["GCS_GRS_1980_IUGG_1980",DATUM["D_unknown",SPHEROID["GRS80",6378137.0,298.257222101]],PRIMEM["Greenwich",0.0],UNIT["Degree",0.0174532925199433]],PROJECTION["Albers"],PARAMETER["false_easting",0.0],PARAMETER["false_northing",-4000000.0],PARAMETER["central_meridian",-120.0],PARAMETER["standard_parallel_1",34.0],PARAMETER["standard_parallel_2",40.5],PARAMETER["latitude_of_origin",0.0],UNIT["Meter",1.0]]
Full Extent:
XMin: -451375.584638764
YMin: -645281.560132408
XMax: 600124.4153612361
YMax: 491838.43986759195
Spatial Reference: PROJCS["Albers_Conic_Equal_Area",GEOGCS["GCS_GRS_1980_IUGG_1980",DATUM["D_unknown",SPHEROID["GRS80",6378137.0,298.257222101]],PRIMEM["Greenwich",0.0],UNIT["Degree",0.0174532925199433]],PROJECTION["Albers"],PARAMETER["false_easting",0.0],PARAMETER["false_northing",-4000000.0],PARAMETER["central_meridian",-120.0],PARAMETER["standard_parallel_1",34.0],PARAMETER["standard_parallel_2",40.5],PARAMETER["latitude_of_origin",0.0],UNIT["Meter",1.0]]
Pixel Size X: 30.0
Pixel Size Y: 30.0
Band Count: 1
Pixel Type: F32
RasterFunction Infos: {"rasterFunctionInfos": [{
"name": "None",
"description": "",
"help": ""
}]}
Mensuration Capabilities: Basic
Has Histograms: true
Has Colormap: false
Has Multi Dimensions : false
Rendering Rule:
Min Scale: 0
Max Scale: 0
Copyright Text:
Service Data Type: esriImageServiceDataTypeGeneric
Min Values: 0
Max Values: 426.69931030273
Mean Values: 22.61987044711
Standard Deviation Values: 23.935977092131
Object ID Field:
Fields:
None
Default Mosaic Method: Center
Allowed Mosaic Methods:
SortField:
SortValue: null
Mosaic Operator: First
Default Compression Quality: 75
Default Resampling Method: Bilinear
Max Record Count: null
Max Image Height: 4100
Max Image Width: 15000
Max Download Image Count: null
Max Mosaic Image Count: null
Allow Raster Function: true
Allow Copy: true
Allow Analysis: true
Allow Compute TiePoints: false
Supports Statistics: false
Supports Advanced Queries: false
Use StandardizedQueries: true
Raster Type Infos:
Name: Raster Dataset
Description: Supports all ArcGIS Raster Datasets
Help:
Has Raster Attribute Table: false
Edit Fields Info: null
Ownership Based AccessControl For Rasters: null
Child Resources:
Info
Histograms
Statistics
Key Properties
Legend
Raster Function Infos
Supported Operations:
Export Image
Identify
Measure
Compute Histograms
Compute Statistics Histograms
Get Samples
Compute Class Statistics
Query Boundary
Compute Pixel Location
Compute Angles
Validate
Project