View In:
ArcGIS JavaScript
ArcGIS Online Map Viewer
ArcGIS Earth
ArcMap
View Footprint In:
ArcGIS Online Map Viewer
Service Description: FUEL_REDUCTION_PRIORITY_V2_7_21_23
Name: FUEL_REDUCTION_PRIORITY_V2_7_21_23
Description:
Single Fused Map Cache: false
Extent:
XMin: -394961.6792679689
YMin: 136.8980357227847
XMax: -44441.679267968924
YMax: 458806.8980357228
Spatial Reference: 3310
(3310)
Initial Extent:
XMin: -394961.6792679689
YMin: 136.8980357227847
XMax: -44441.679267968924
YMax: 458806.8980357228
Spatial Reference: 3310
(3310)
Full Extent:
XMin: -394961.6792679689
YMin: 136.8980357227847
XMax: -44441.679267968924
YMax: 458806.8980357228
Spatial Reference: 3310
(3310)
Pixel Size X: 30.0
Pixel Size Y: 30.0
Band Count: 1
Pixel Type: S32
RasterFunction Infos: {"rasterFunctionInfos": [{
"name": "None",
"description": "",
"help": ""
}]}
Mensuration Capabilities: Basic
Has Histograms: true
Has Colormap: false
Has Multi Dimensions : false
Rendering Rule:
Min Scale: 0
Max Scale: 0
Copyright Text:
Service Data Type: esriImageServiceDataTypeGeneric
Min Values: 1
Max Values: 30330
Mean Values: 9800.909652344835
Standard Deviation Values: 8287.48455878411
Object ID Field:
Fields:
None
Default Mosaic Method: Center
Allowed Mosaic Methods:
SortField:
SortValue: null
Mosaic Operator: First
Default Compression Quality: 75
Default Resampling Method: Bilinear
Max Record Count: null
Max Image Height: 4100
Max Image Width: 15000
Max Download Image Count: null
Max Mosaic Image Count: null
Allow Raster Function: true
Allow Copy: true
Allow Analysis: true
Allow Compute TiePoints: false
Supports Statistics: false
Supports Advanced Queries: false
Use StandardizedQueries: true
Raster Type Infos:
Name: Raster Dataset
Description: Supports all ArcGIS Raster Datasets
Help:
Has Raster Attribute Table: true
Edit Fields Info: null
Ownership Based AccessControl For Rasters: null
Child Resources:
Info
Raster Attribute Table
Histograms
Statistics
Key Properties
Legend
Raster Function Infos
Supported Operations:
Export Image
Identify
Measure
Compute Histograms
Compute Statistics Histograms
Get Samples
Compute Class Statistics
Query Boundary
Compute Pixel Location
Compute Angles
Validate
Project