View In:
ArcGIS JavaScript
ArcGIS Online Map Viewer
ArcGIS Earth
ArcMap
View Footprint In:
ArcGIS Online Map Viewer
Service Description: MARIN_MECHANICAL_TREATMENT_FEASIBILITY_V1_tif
Name: MARIN_MECHANICAL_TREATMENT_FEASIBILITY_V1_tif
Description:
Single Fused Map Cache: false
Extent:
XMin: 496579.09009999665
YMin: 4183998.0261019953
XMax: 551544.0900999967
YMax: 4242818.026101995
Spatial Reference: 26910
(26910)
Initial Extent:
XMin: 496579.09009999665
YMin: 4183998.0261019953
XMax: 551544.0900999967
YMax: 4242818.026101995
Spatial Reference: 26910
(26910)
Full Extent:
XMin: 496579.09009999665
YMin: 4183998.0261019953
XMax: 551544.0900999967
YMax: 4242818.026101995
Spatial Reference: 26910
(26910)
Pixel Size X: 5.0
Pixel Size Y: 5.0
Band Count: 1
Pixel Type: S32
RasterFunction Infos: {"rasterFunctionInfos": [{
"name": "None",
"description": "",
"help": ""
}]}
Mensuration Capabilities: Basic
Has Histograms: true
Has Colormap: false
Has Multi Dimensions : false
Rendering Rule:
Min Scale: 0
Max Scale: 0
Copyright Text:
Service Data Type: esriImageServiceDataTypeThematic
Min Values: 1
Max Values: 2248
Mean Values: 277.71202962054
Standard Deviation Values: 377.10424005716
Object ID Field:
Fields:
None
Default Mosaic Method: Center
Allowed Mosaic Methods:
SortField:
SortValue: null
Mosaic Operator: First
Default Compression Quality: 75
Default Resampling Method: Bilinear
Max Record Count: null
Max Image Height: 4100
Max Image Width: 15000
Max Download Image Count: null
Max Mosaic Image Count: null
Allow Raster Function: true
Allow Copy: true
Allow Analysis: true
Allow Compute TiePoints: false
Supports Statistics: false
Supports Advanced Queries: false
Use StandardizedQueries: true
Raster Type Infos:
Name: Raster Dataset
Description: Supports all ArcGIS Raster Datasets
Help:
Has Raster Attribute Table: true
Edit Fields Info: null
Ownership Based AccessControl For Rasters: null
Child Resources:
Info
Raster Attribute Table
Histograms
Statistics
Key Properties
Legend
Raster Function Infos
Supported Operations:
Export Image
Identify
Measure
Compute Histograms
Compute Statistics Histograms
Get Samples
Compute Class Statistics
Query Boundary
Compute Pixel Location
Compute Angles
Validate
Project