View In:
ArcGIS JavaScript
ArcGIS Online Map Viewer
ArcGIS Earth
ArcMap
View Footprint In:
ArcGIS Online Map Viewer
Service Description: raster/HAZARD_V7_WEIGHTS2
Name: raster/HAZARD_V7_WEIGHTS2
Description:
Single Fused Map Cache: false
Extent:
XMin: -1.3616866570889032E7
YMin: 4417048.674758619
XMax: -1.3491546570889032E7
YMax: 4507888.674758619
Spatial Reference: 102100
(3857)
Initial Extent:
XMin: -1.3616866570889032E7
YMin: 4417048.674758619
XMax: -1.3491546570889032E7
YMax: 4507888.674758619
Spatial Reference: 102100
(3857)
Full Extent:
XMin: -1.3616866570889032E7
YMin: 4417048.674758619
XMax: -1.3491546570889032E7
YMax: 4507888.674758619
Spatial Reference: 102100
(3857)
Pixel Size X: 20.0
Pixel Size Y: 20.0
Band Count: 1
Pixel Type: F32
RasterFunction Infos: {"rasterFunctionInfos": [{
"name": "None",
"description": "",
"help": ""
}]}
Mensuration Capabilities: Basic
Has Histograms: true
Has Colormap: false
Has Multi Dimensions : false
Rendering Rule:
Min Scale: 0
Max Scale: 0
Copyright Text:
Service Data Type: esriImageServiceDataTypeGeneric
Min Values: 1
Max Values: 6
Mean Values: 3.8451310360592
Standard Deviation Values: 1.5307317159142
Object ID Field:
Fields:
None
Default Mosaic Method: Center
Allowed Mosaic Methods:
SortField:
SortValue: null
Mosaic Operator: First
Default Compression Quality: 75
Default Resampling Method: Bilinear
Max Record Count: null
Max Image Height: 4100
Max Image Width: 15000
Max Download Image Count: null
Max Mosaic Image Count: null
Allow Raster Function: true
Allow Copy: true
Allow Analysis: true
Allow Compute TiePoints: false
Supports Statistics: false
Supports Advanced Queries: false
Use StandardizedQueries: true
Raster Type Infos:
Name: Raster Dataset
Description: Supports all ArcGIS Raster Datasets
Help:
Has Raster Attribute Table: false
Edit Fields Info: null
Ownership Based AccessControl For Rasters: null
Child Resources:
Info
Histograms
Statistics
Key Properties
Legend
Raster Function Infos
Supported Operations:
Export Image
Identify
Measure
Compute Histograms
Compute Statistics Histograms
Get Samples
Compute Class Statistics
Query Boundary
Compute Pixel Location
Compute Angles
Validate
Project